BEGIN:VCALENDAR
VERSION:2.0
PRODID:-//iBV - ECPv5.8.1//NONSGML v1.0//EN
CALSCALE:GREGORIAN
METHOD:PUBLISH
X-WR-CALNAME:iBV
X-ORIGINAL-URL:http://ibv.unice.fr
X-WR-CALDESC:Events for iBV
BEGIN:VTIMEZONE
TZID:Europe/Paris
BEGIN:DAYLIGHT
TZOFFSETFROM:+0100
TZOFFSETTO:+0200
TZNAME:CEST
DTSTART:20250330T010000
END:DAYLIGHT
BEGIN:STANDARD
TZOFFSETFROM:+0200
TZOFFSETTO:+0100
TZNAME:CET
DTSTART:20251026T010000
END:STANDARD
END:VTIMEZONE
BEGIN:VEVENT
DTSTART;TZID=Europe/Paris:20250110T110000
DTEND;TZID=Europe/Paris:20250110T110000
DTSTAMP:20260420T190911
CREATED:20240511T043650Z
LAST-MODIFIED:20241104T053004Z
UID:13423-1736506800-1736506800@ibv.unice.fr
SUMMARY:Patrick LEMAIRE
DESCRIPTION:From: CRBM\, montpellier \n  \nWill give a seminar entitled: \nDigital ascidian embryos: inferring logical rules of animal embryogenesis from the analysis of natural variation \n  \nSpeaker website
URL:http://ibv.unice.fr/event/patrick-lemaire/
LOCATION:Salle de Conférences\, Centre de Biochimie\, 28 avenue Valrose\, Faculté des Sciences\, Parc Valrose\, Nice\, 06100\, France
CATEGORIES:Seminar Series
ORGANIZER;CN="Mich%C3%A8le%20STUDER":MAILTO:studer@unice.fr
END:VEVENT
END:VCALENDAR