BEGIN:VCALENDAR
VERSION:2.0
PRODID:-//iBV - ECPv5.8.1//NONSGML v1.0//EN
CALSCALE:GREGORIAN
METHOD:PUBLISH
X-WR-CALNAME:iBV
X-ORIGINAL-URL:http://ibv.unice.fr
X-WR-CALDESC:Events for iBV
BEGIN:VTIMEZONE
TZID:Europe/Paris
BEGIN:DAYLIGHT
TZOFFSETFROM:+0100
TZOFFSETTO:+0200
TZNAME:CEST
DTSTART:20240331T010000
END:DAYLIGHT
BEGIN:STANDARD
TZOFFSETFROM:+0200
TZOFFSETTO:+0100
TZNAME:CET
DTSTART:20241027T010000
END:STANDARD
END:VTIMEZONE
BEGIN:VEVENT
DTSTART;TZID=Europe/Paris:20241217T093000
DTEND;TZID=Europe/Paris:20241217T093000
DTSTAMP:20260422T111509
CREATED:20241115T103753Z
LAST-MODIFIED:20241115T104025Z
UID:14057-1734427800-1734427800@ibv.unice.fr
SUMMARY:Martine SIMONELIG
DESCRIPTION:From: IGH\, Montpellier \n  \nWill give a seminar entitled: \n  \nmRNA regulation by small non-coding RNAs and RNA granules during development \n  \nSpeaker website
URL:http://ibv.unice.fr/event/martine-simonelig/
LOCATION:Salle de Conférences\, Centre de Biochimie\, 28 avenue Valrose\, Faculté des Sciences\, Parc Valrose\, Nice\, 06100\, France
CATEGORIES:Seminars
ORGANIZER;CN="Florence%20BESSE":MAILTO:besse@unice.fr
END:VEVENT
END:VCALENDAR