BEGIN:VCALENDAR
VERSION:2.0
PRODID:-//iBV - ECPv5.8.1//NONSGML v1.0//EN
CALSCALE:GREGORIAN
METHOD:PUBLISH
X-WR-CALNAME:iBV
X-ORIGINAL-URL:http://ibv.unice.fr
X-WR-CALDESC:Events for iBV
BEGIN:VTIMEZONE
TZID:Europe/Paris
BEGIN:DAYLIGHT
TZOFFSETFROM:+0100
TZOFFSETTO:+0200
TZNAME:CEST
DTSTART:20210328T010000
END:DAYLIGHT
BEGIN:STANDARD
TZOFFSETFROM:+0200
TZOFFSETTO:+0100
TZNAME:CET
DTSTART:20211031T010000
END:STANDARD
END:VTIMEZONE
BEGIN:VEVENT
DTSTART;TZID=Europe/Paris:20211105T143000
DTEND;TZID=Europe/Paris:20211105T143000
DTSTAMP:20260426T002536
CREATED:20211007T122852Z
LAST-MODIFIED:20211020T142417Z
UID:9799-1636122600-1636122600@ibv.unice.fr
SUMMARY:Caroline MEDIONI
DESCRIPTION:Will defend her HDR entitled : \nMorphogenèse chez la drosophile : de la migration cellulaire au remodelage axonal \nOnline (contact the organizer for access) \n  \nJury:\nMichèle Studer (présidente et examinatrice)\nJean-Maurice Dura (rapporteur)\nCédric Maurange (rapporteur)\nXavier Morin (rapporteur)\nAnne Ephrussi (examinatrice)\nFlorence Besse (examinatrice)
URL:http://ibv.unice.fr/event/caroline-medioni/
LOCATION:Online\, - To attend the event please contact the organizer
CATEGORIES:HDR
ORGANIZER;CN="Caroline%20MEDIONI":MAILTO:Caroline.MEDIONI@univ-cotedazur.fr
END:VEVENT
END:VCALENDAR