BEGIN:VCALENDAR
VERSION:2.0
PRODID:-//iBV - ECPv5.8.1//NONSGML v1.0//EN
CALSCALE:GREGORIAN
METHOD:PUBLISH
X-WR-CALNAME:iBV
X-ORIGINAL-URL:http://ibv.unice.fr
X-WR-CALDESC:Events for iBV
BEGIN:VTIMEZONE
TZID:Europe/Paris
BEGIN:DAYLIGHT
TZOFFSETFROM:+0100
TZOFFSETTO:+0200
TZNAME:CEST
DTSTART:20260329T010000
END:DAYLIGHT
BEGIN:STANDARD
TZOFFSETFROM:+0200
TZOFFSETTO:+0100
TZNAME:CET
DTSTART:20261025T010000
END:STANDARD
END:VTIMEZONE
BEGIN:VEVENT
DTSTART;TZID=Europe/Paris:20260220T110000
DTEND;TZID=Europe/Paris:20260220T110000
DTSTAMP:20260420T130113
CREATED:20251029T125157Z
LAST-MODIFIED:20251029T125157Z
UID:15245-1771585200-1771585200@ibv.unice.fr
SUMMARY:Adrian SALIC
DESCRIPTION:From: Harvard Medical School\, Blavatnik Institute Cell Biology \n  \nWill give a seminar entitled: \n  \nSending and receiving intercellular signals \n  \nCommunication between cells is fundamental for the embryonic development and adult physiology of all multicellular organisms. In animals\, cell-cell communication is carried out by a small number of conserved signaling pathways (about 20)\, each consisting of an ordered chain of biochemical steps that link extracellular signals with specific cellular outputs\, such as movement\, proliferation\, growth or differentiation. The steps of a signaling pathway are carefully controlled\, to avoid the negative consequences of abnormal activity: insufficient signaling usually leads to birth defects\, and excessive signaling is implicated in many cancers. While the biological molecules involved in cell-cell communication were identified a while ago\, how signals propagate is still poorly understood. I will present work from our lab aimed at dissecting the molecular mechanisms of two different signaling pathways\, Hedgehog and Wnt. I will also discuss the implications of our findings for understanding disease. \n  \nSpeaker website
URL:http://ibv.unice.fr/event/adrian-salic/
LOCATION:Salle de Conférences\, Centre de Biochimie\, 28 avenue Valrose\, Faculté des Sciences\, Parc Valrose\, Nice\, 06100\, France
CATEGORIES:Seminar Series
ORGANIZER;CN="Pascal%20THEROND":MAILTO:therond@unice.fr
END:VEVENT
END:VCALENDAR